BEGIN:VCALENDAR
PRODID:-//kirchenweb.ch gmbh//veranstaltungsausgabe v2.0//DE
VERSION:2.0
METHOD:PUBLISH
BEGIN:VEVENT
DTSTART:20260426T080000Z
DTEND:20260426T090000Z
LOCATION:Mehrzwecksaal Gemeindehaus\, Gemeindehausstrasse 4\, 3179
  Kriechenwil
TRANSP:OPAQUE
SEQUENCE:0
UID:50584-veranstaltung@kirchenregion-laupen.ch
DTSTAMP:20260224T134544Z
DESCRIPTION:An allen Gottesdiensten ist für Personen aus Laupen und
  Kriechenwil ein Fahrdienst organisiert. Anmeldung bis Samstagmittag bei
  H. Stoll unter Telefon 078 905 02 09.\n\n\n\n\nKontakt: Pfr. Jan Ludwig
  Reintjes (Laupen)\n\nWeitere Infos:
  https://www.kirchenregion-laupen.ch/veranstaltung/50584
SUMMARY:Gottesdienst
PRIORITY:5
X-MICROSOFT-CDO-IMPORTANCE:1
CLASS:PUBLIC
END:VEVENT
END:VCALENDAR
