BEGIN:VCALENDAR
PRODID:-//kirchenweb.ch gmbh//veranstaltungsausgabe v2.0//DE
VERSION:2.0
METHOD:PUBLISH
BEGIN:VEVENT
DTSTART;VALUE=DATE:20260525
DTEND;VALUE=DATE:20260526
LOCATION:Ferenbalm\, \,
TRANSP:OPAQUE
SEQUENCE:0
UID:51590-veranstaltung@kirchenregion-laupen.ch
DTSTAMP:20241112T204344Z
DESCRIPTION:Kontakt: kathrin.winkelmann@kirchenregion-laupen.ch\n\nWeitere
  Infos: https://www.kirchenregion-laupen.ch/veranstaltung/51590
SUMMARY:FR Schulkreis Gurmels - Pfingstmontag schulfrei
PRIORITY:5
X-MICROSOFT-CDO-IMPORTANCE:1
CLASS:PUBLIC
END:VEVENT
END:VCALENDAR
