BEGIN:VCALENDAR
PRODID:-//kirchenweb.ch gmbh//veranstaltungsausgabe v2.0//DE
VERSION:2.0
METHOD:PUBLISH
BEGIN:VEVENT
DTSTART:20260430T063000Z
DTEND:20260430T100000Z
LOCATION:Ökumenisches Zentrum\, Noflenweg 6\, 3177 Laupen
TRANSP:OPAQUE
SEQUENCE:0
UID:53683-veranstaltung@kirchenregion-laupen.ch
DTSTAMP:20250306T093003Z
DESCRIPTION:Kontakt: Esther Herzog\n\nWeitere Infos:
  https://www.kirchenregion-laupen.ch/veranstaltung/53683
SUMMARY:Seniorentanz
PRIORITY:5
X-MICROSOFT-CDO-IMPORTANCE:1
CLASS:PUBLIC
END:VEVENT
END:VCALENDAR
