BEGIN:VCALENDAR
PRODID:-//kirchenweb.ch gmbh//veranstaltungsausgabe v2.0//DE
VERSION:2.0
METHOD:PUBLISH
BEGIN:VEVENT
DTSTART:20260422T173000Z
DTEND:20260422T190000Z
LOCATION:Ökumenisches Zentrum\, Noflenweg 6\, 3177 Laupen
TRANSP:OPAQUE
SEQUENCE:0
UID:54540-veranstaltung@kirchenregion-laupen.ch
DTSTAMP:20250625T091548Z
DESCRIPTION:Kontakt: Pfr. Jan Ludwig Reintjes\, Laupen\n\nWeitere Infos:
  https://www.kirchenregion-laupen.ch/veranstaltung/54540
SUMMARY:Elternabend Konfirmation
PRIORITY:5
X-MICROSOFT-CDO-IMPORTANCE:1
CLASS:PUBLIC
END:VEVENT
END:VCALENDAR
