BEGIN:VCALENDAR
PRODID:-//kirchenweb.ch gmbh//veranstaltungsausgabe v2.0//DE
VERSION:2.0
METHOD:PUBLISH
BEGIN:VEVENT
DTSTART:20260509T070000Z
DTEND:20260509T100000Z
LOCATION:Evang.-ref. Kirche\, Läubliplatz 16\, 3177 Laupen
TRANSP:OPAQUE
SEQUENCE:0
UID:54547-veranstaltung@kirchenregion-laupen.ch
DTSTAMP:20250625T093908Z
DESCRIPTION:Kontakt: Pfr. Jan Ludwig Reintjes\, Laupen\n\nWeitere Infos:
  https://www.kirchenregion-laupen.ch/veranstaltung/54547
SUMMARY:Konfirmandenunterricht
PRIORITY:5
X-MICROSOFT-CDO-IMPORTANCE:1
CLASS:PUBLIC
END:VEVENT
END:VCALENDAR
