BEGIN:VCALENDAR
PRODID:-//kirchenweb.ch gmbh//veranstaltungsausgabe v2.0//DE
VERSION:2.0
METHOD:PUBLISH
BEGIN:VEVENT
DTSTART:20260507T160000Z
DTEND:20260507T190000Z
LOCATION:Angaben folgen\, \,
TRANSP:OPAQUE
SEQUENCE:0
UID:54606-veranstaltung@kirchenregion-laupen.ch
DTSTAMP:20250627T092849Z
DESCRIPTION:Abschlussessen Konfirmanden Schuljahr 2025/2026\n\nKontakt:
  Maria-Dolores Hofmann\, Katechetin\n\nWeitere Infos:
  https://www.kirchenregion-laupen.ch/veranstaltung/54606
SUMMARY:KUW 9. Klasse - Abschlussessen
PRIORITY:5
X-MICROSOFT-CDO-IMPORTANCE:1
CLASS:PUBLIC
END:VEVENT
END:VCALENDAR
