BEGIN:VCALENDAR
PRODID:-//kirchenweb.ch gmbh//veranstaltungsausgabe v2.0//DE
VERSION:2.0
METHOD:PUBLISH
BEGIN:VEVENT
DTSTART:20260422T113000Z
DTEND:20260422T140000Z
LOCATION:Ökumenisches Zentrum\, Noflenweg 6\, 3177 Laupen
TRANSP:OPAQUE
SEQUENCE:0
UID:54662-veranstaltung@kirchenregion-laupen.ch
DTSTAMP:20250709T073746Z
DESCRIPTION:Kontakt: Pfr. Jan Ludwig Reintjes\, Laupen\n\nWeitere Infos:
  https://www.kirchenregion-laupen.ch/veranstaltung/54662
SUMMARY:KUW 5
PRIORITY:5
X-MICROSOFT-CDO-IMPORTANCE:1
CLASS:PUBLIC
END:VEVENT
END:VCALENDAR
