BEGIN:VCALENDAR
PRODID:-//kirchenweb.ch gmbh//veranstaltungsausgabe v2.0//DE
VERSION:2.0
METHOD:PUBLISH
BEGIN:VEVENT
DTSTART;VALUE=DATE:20260425
DTEND;VALUE=DATE:20260426
LOCATION:auswärts\, \,
TRANSP:OPAQUE
SEQUENCE:0
UID:54680-veranstaltung@kirchenregion-laupen.ch
DTSTAMP:20250711T095424Z
DESCRIPTION:Ausflug\, ganztägig\n\nKontakt: Irène Löffel\, Katechetin
 \nMaria-Dolores Hofmann\, Katechetin\n\nWeitere Infos:
  https://www.kirchenregion-laupen.ch/veranstaltung/54680
SUMMARY:KUW 5. Klasse - Ausflug
PRIORITY:5
X-MICROSOFT-CDO-IMPORTANCE:1
CLASS:PUBLIC
END:VEVENT
END:VCALENDAR
