BEGIN:VCALENDAR
PRODID:-//kirchenweb.ch gmbh//veranstaltungsausgabe v2.0//DE
VERSION:2.0
METHOD:PUBLISH
BEGIN:VEVENT
DTSTART:20260426T080000Z
DTEND:20260426T090000Z
LOCATION:Kirche\, Kirchgasse 4\, 3206 Ferenbalm
TRANSP:OPAQUE
SEQUENCE:0
UID:54681-veranstaltung@kirchenregion-laupen.ch
DTSTAMP:20260304T132929Z
DESCRIPTION:Mitwirkung SchülerInnen KUW 5. Klasse\, Leitung Irène
  Löffel\, Katechetin\n\nKontakt: Irène Löffel\, Prädikantin\,
  Müntschemier\n\nWeitere Infos:
  https://www.kirchenregion-laupen.ch/veranstaltung/54681
SUMMARY:Generationengottesdienst\, Mitwirkung KUW 5. Klasse
PRIORITY:5
X-MICROSOFT-CDO-IMPORTANCE:1
CLASS:PUBLIC
END:VEVENT
END:VCALENDAR
