BEGIN:VCALENDAR
PRODID:-//kirchenweb.ch gmbh//veranstaltungsausgabe v2.0//DE
VERSION:2.0
METHOD:PUBLISH
BEGIN:VEVENT
DTSTART:20260506T113000Z
DTEND:20260506T140000Z
LOCATION:Pfarrstöckli\, Gemeindesaal OG\, Ferenbalmstrasse 31\, 3206
  Ferenbalm
TRANSP:OPAQUE
SEQUENCE:0
UID:54682-veranstaltung@kirchenregion-laupen.ch
DTSTAMP:20250711T095742Z
DESCRIPTION:Kontakt: Maria-Dolores Hofmann\, Katechetin\n\nWeitere Infos:
  https://www.kirchenregion-laupen.ch/veranstaltung/54682
SUMMARY:KUW 6. Klasse - Unterricht
PRIORITY:5
X-MICROSOFT-CDO-IMPORTANCE:1
CLASS:PUBLIC
END:VEVENT
END:VCALENDAR
