BEGIN:VCALENDAR
PRODID:-//kirchenweb.ch gmbh//veranstaltungsausgabe v2.0//DE
VERSION:2.0
METHOD:PUBLISH
BEGIN:VEVENT
DTSTART;VALUE=DATE:20260521
DTEND;VALUE=DATE:20260522
LOCATION:auswärts\, \,
TRANSP:OPAQUE
SEQUENCE:0
UID:54684-veranstaltung@kirchenregion-laupen.ch
DTSTAMP:20250711T095916Z
DESCRIPTION:Ausflug\, ganztägig\n\nKontakt: Maria-Dolores Hofmann\,
  Katechetin\n\nWeitere Infos:
  https://www.kirchenregion-laupen.ch/veranstaltung/54684
SUMMARY:KUW 6. Klasse - Unterricht
PRIORITY:5
X-MICROSOFT-CDO-IMPORTANCE:1
CLASS:PUBLIC
END:VEVENT
END:VCALENDAR
