BEGIN:VCALENDAR
PRODID:-//kirchenweb.ch gmbh//veranstaltungsausgabe v2.0//DE
VERSION:2.0
METHOD:PUBLISH
BEGIN:VEVENT
DTSTART:20260519T160000Z
DTEND:20260519T173000Z
LOCATION:Pfarrstöckli\, Gemeindesaal OG\, Ferenbalmstrasse 31\, 3206
  Ferenbalm
TRANSP:OPAQUE
SEQUENCE:0
UID:54685-veranstaltung@kirchenregion-laupen.ch
DTSTAMP:20250711T100132Z
DESCRIPTION:KUW 7./8. Klasse - Unterricht (Thema: Gottesbilder)\n
 \nKontakt: Maria-Dolores Hofmann\, Katechetin\n\nWeitere Infos:
  https://www.kirchenregion-laupen.ch/veranstaltung/54685
SUMMARY:KUW 7./8. Klasse - Unterricht
PRIORITY:5
X-MICROSOFT-CDO-IMPORTANCE:1
CLASS:PUBLIC
END:VEVENT
END:VCALENDAR
