BEGIN:VCALENDAR
PRODID:-//kirchenweb.ch gmbh//veranstaltungsausgabe v2.0//DE
VERSION:2.0
METHOD:PUBLISH
BEGIN:VEVENT
DTSTART;VALUE=DATE:20260504
DTEND;VALUE=DATE:20260505
LOCATION:Pfarrstöckli\, Gemeindesaal OG\, Ferenbalmstrasse 31\, 3206
  Ferenbalm
TRANSP:OPAQUE
SEQUENCE:0
UID:54688-veranstaltung@kirchenregion-laupen.ch
DTSTAMP:20250711T114434Z
DESCRIPTION:KUW 7./8. Klasse - Unterricht (Thema: Gottesbilder)\n
 \nKontakt: Maria-Dolores Hofmann\, Katechetin\n\nWeitere Infos:
  https://www.kirchenregion-laupen.ch/veranstaltung/54688
SUMMARY:KUW 7./8. Klasse - KUW-Tag
PRIORITY:5
X-MICROSOFT-CDO-IMPORTANCE:1
CLASS:PUBLIC
END:VEVENT
END:VCALENDAR
