BEGIN:VCALENDAR
PRODID:-//kirchenweb.ch gmbh//veranstaltungsausgabe v2.0//DE
VERSION:2.0
METHOD:PUBLISH
BEGIN:VEVENT
DTSTART:20260505T153000Z
DTEND:20260505T171500Z
LOCATION:Kirche Frauenkappelen\, Murtenstrasse 68\, 3202 Frauenkappelen
TRANSP:OPAQUE
SEQUENCE:0
UID:54722-veranstaltung@kirchenregion-laupen.ch
DTSTAMP:20250716T082802Z
DESCRIPTION:Kontakt: Pfrn. Claudia Miller\n\nWeitere Infos:
  https://www.kirchenregion-laupen.ch/veranstaltung/54722
SUMMARY:KUW 9 Konfirmationsvorbereitung
PRIORITY:5
X-MICROSOFT-CDO-IMPORTANCE:1
CLASS:PUBLIC
END:VEVENT
END:VCALENDAR
