BEGIN:VCALENDAR
PRODID:-//kirchenweb.ch gmbh//veranstaltungsausgabe v2.0//DE
VERSION:2.0
METHOD:PUBLISH
BEGIN:VEVENT
DTSTART;VALUE=DATE:20260513
DTEND;VALUE=DATE:20260514
LOCATION:Auswärts\, \,
TRANSP:OPAQUE
SEQUENCE:0
UID:54723-veranstaltung@kirchenregion-laupen.ch
DTSTAMP:20250716T082854Z
DESCRIPTION:Kontakt: Pfrn. Claudia Miller\n\nWeitere Infos:
  https://www.kirchenregion-laupen.ch/veranstaltung/54723
SUMMARY:Konfreise
PRIORITY:5
X-MICROSOFT-CDO-IMPORTANCE:1
CLASS:PUBLIC
END:VEVENT
END:VCALENDAR
