BEGIN:VCALENDAR
PRODID:-//kirchenweb.ch gmbh//veranstaltungsausgabe v2.0//DE
VERSION:2.0
METHOD:PUBLISH
BEGIN:VEVENT
DTSTART:20260429T113000Z
DTEND:20260429T140000Z
LOCATION:Ökumenisches Zentrum\, Noflenweg 6\, 3177 Laupen
TRANSP:OPAQUE
SEQUENCE:0
UID:54841-veranstaltung@kirchenregion-laupen.ch
DTSTAMP:20250811T062539Z
DESCRIPTION:Kontakt: Rosemarie Reintjes\n\nWeitere Infos:
  https://www.kirchenregion-laupen.ch/veranstaltung/54841
SUMMARY:KUW 6. Klasse
PRIORITY:5
X-MICROSOFT-CDO-IMPORTANCE:1
CLASS:PUBLIC
END:VEVENT
END:VCALENDAR
