BEGIN:VCALENDAR
PRODID:-//kirchenweb.ch gmbh//veranstaltungsausgabe v2.0//DE
VERSION:2.0
METHOD:PUBLISH
BEGIN:VEVENT
DTSTART:20260429T070000Z
DTEND:20260429T093000Z
LOCATION:Gemeindesaal\, Grissachstrasse 30\, 1797 Münchenwiler
TRANSP:OPAQUE
SEQUENCE:0
UID:54927-veranstaltung@kirchenregion-laupen.ch
DTSTAMP:20250818T074554Z
DESCRIPTION:Kontakt: Nadine Calislar\, Katechetin\n\nWeitere Infos:
  https://www.kirchenregion-laupen.ch/veranstaltung/54927
SUMMARY:KUW 3 H + 4 H
PRIORITY:5
X-MICROSOFT-CDO-IMPORTANCE:1
CLASS:PUBLIC
END:VEVENT
END:VCALENDAR
