BEGIN:VCALENDAR
PRODID:-//kirchenweb.ch gmbh//veranstaltungsausgabe v2.0//DE
VERSION:2.0
METHOD:PUBLISH
BEGIN:VEVENT
DTSTART:20260426T173000Z
DTEND:20260426T183000Z
LOCATION:Schlosskirche\, Kühergasse 7\, 1797 Münchenwiler
TRANSP:OPAQUE
SEQUENCE:0
UID:56564-veranstaltung@kirchenregion-laupen.ch
DTSTAMP:20251110T150838Z
DESCRIPTION:Kontakt: Pfr. Andri Kober \n\nWeitere Infos:
  https://www.kirchenregion-laupen.ch/veranstaltung/56564
SUMMARY:Abendgottesdienst mit KGV
PRIORITY:5
X-MICROSOFT-CDO-IMPORTANCE:1
CLASS:PUBLIC
END:VEVENT
END:VCALENDAR
