BEGIN:VCALENDAR
PRODID:-//kirchenweb.ch gmbh//veranstaltungsausgabe v2.0//DE
VERSION:2.0
METHOD:PUBLISH
BEGIN:VEVENT
DTSTART;VALUE=DATE:20260426
DTEND;VALUE=DATE:20260427
LOCATION:Kirche Frauenkappelen\, Murtenstrasse 68\, 3202 Frauenkappelen
TRANSP:OPAQUE
SEQUENCE:0
UID:56602-veranstaltung@kirchenregion-laupen.ch
DTSTAMP:20260128T103831Z
DESCRIPTION:Kontakt: Pfrn. Claudia Miller\n\nWeitere Infos:
  https://www.kirchenregion-laupen.ch/veranstaltung/56602
SUMMARY:Kein Gottesdienst
PRIORITY:5
X-MICROSOFT-CDO-IMPORTANCE:1
CLASS:PUBLIC
END:VEVENT
END:VCALENDAR
