BEGIN:VCALENDAR
PRODID:-//kirchenweb.ch gmbh//veranstaltungsausgabe v2.0//DE
VERSION:2.0
METHOD:PUBLISH
BEGIN:VEVENT
DTSTART:20260517T073000Z
DTEND:20260517T083000Z
LOCATION:Kirche Frauenkappelen\, Murtenstrasse 68\, 3202 Frauenkappelen
TRANSP:OPAQUE
SEQUENCE:0
UID:56606-veranstaltung@kirchenregion-laupen.ch
DTSTAMP:20260205T073356Z
DESCRIPTION:Kontakt: Susanne Bärlocher\, Prädikantin\n\nWeitere Infos:
  https://www.kirchenregion-laupen.ch/veranstaltung/56606
SUMMARY:Gottesdienst
PRIORITY:5
X-MICROSOFT-CDO-IMPORTANCE:1
CLASS:PUBLIC
END:VEVENT
END:VCALENDAR
