BEGIN:VCALENDAR
PRODID:-//kirchenweb.ch gmbh//veranstaltungsausgabe v2.0//DE
VERSION:2.0
METHOD:PUBLISH
BEGIN:VEVENT
DTSTART:20260527T173000Z
DTEND:20260527T183000Z
LOCATION:Kirchgemeindestube\, Murtenstrasse 72a\, 3202 Frauenkappelen
TRANSP:OPAQUE
SEQUENCE:0
UID:56693-veranstaltung@kirchenregion-laupen.ch
DTSTAMP:20251120T070719Z
DESCRIPTION:Kontakt: Beatrice Winkelmann\, Sekretariat\n\nWeitere Infos:
  https://www.kirchenregion-laupen.ch/veranstaltung/56693
SUMMARY:KGV
PRIORITY:5
X-MICROSOFT-CDO-IMPORTANCE:1
CLASS:PUBLIC
END:VEVENT
END:VCALENDAR
