BEGIN:VCALENDAR
PRODID:-//kirchenweb.ch gmbh//veranstaltungsausgabe v2.0//DE
VERSION:2.0
METHOD:PUBLISH
BEGIN:VEVENT
DTSTART:20260429T080000Z
DTEND:20260429T090000Z
LOCATION:Betagtenzentrum Laupen (BZL)\, Krankenhausweg 12\, Grosser Saal\,
  \,
TRANSP:OPAQUE
SEQUENCE:0
UID:56880-veranstaltung@kirchenregion-laupen.ch
DTSTAMP:20251126T211041Z
DESCRIPTION:Die Pfarrer und Pfarrerinnen der Kirchenregion Laupen sehen in
  einem guten und regelmässigen Angebot an reformieren und ökumenischen
  Gottesdiensten im Betagtenzentrum Laupen (BZL) eine wichtige Aufgabe -
  auch über die eigene Kirchgemeinde hinaus. Sie teilen sich deshalb die
  Gottesdienste\, die alle zwei Wochen im BZL stattfinden\, untereinander
  auf.\n\n\n\nKontakt: ursula.kuendig@kirchenregion-laupen.ch\n\nWeitere
  Infos: https://www.kirchenregion-laupen.ch/veranstaltung/56880
SUMMARY:Gottesdienst im Betagtenzentrum Laupen (BZL)
PRIORITY:5
X-MICROSOFT-CDO-IMPORTANCE:1
CLASS:PUBLIC
END:VEVENT
END:VCALENDAR
