BEGIN:VCALENDAR
PRODID:-//kirchenweb.ch gmbh//veranstaltungsausgabe v2.0//DE
VERSION:2.0
METHOD:PUBLISH
BEGIN:VEVENT
DTSTART:20260621T090000Z
DTEND:20260621T100000Z
LOCATION:Kirche\, Kirchgasse 4\, 3206 Ferenbalm
TRANSP:OPAQUE
SEQUENCE:0
UID:57086-veranstaltung@kirchenregion-laupen.ch
DTSTAMP:20251209T191305Z
DESCRIPTION:Kontakt: Kathrin Winkelmann\, Sekretariat\n\nWeitere Infos:
  https://www.kirchenregion-laupen.ch/veranstaltung/57086
SUMMARY:Ordentliche Kirchgemeindeversammlung bernisch und freiburgisch
  Ferenbalm
PRIORITY:5
X-MICROSOFT-CDO-IMPORTANCE:1
CLASS:PUBLIC
END:VEVENT
END:VCALENDAR
