BEGIN:VCALENDAR
PRODID:-//kirchenweb.ch gmbh//veranstaltungsausgabe v2.0//DE
VERSION:2.0
METHOD:PUBLISH
BEGIN:VEVENT
DTSTART:20260512T093000Z
DTEND:20260512T103000Z
LOCATION:Ökumenisches Zentrum\, Noflenweg 6\, 3177 Laupen
TRANSP:OPAQUE
SEQUENCE:0
UID:57223-veranstaltung@kirchenregion-laupen.ch
DTSTAMP:20251211T161412Z
DESCRIPTION:In Zusammenarbeit mit der "Pro Senectute\, Region Bern" laden
  wir Sie herzlich ein zu einem feinen Mittagessen (inkl. Apéro\,
  Mineralwasser\, Kaffee/Tee und Dessert) zum Preis von 12.00 Franken.
  Beginn 11.30 Uhr mit Apéro\, 12.00 Uhr Mittagessen\n\n\n\nKontakt: Pro
  Senectute\, Region Bern\, Tel. 031 359 03 03\n\nWeitere Infos:
  https://www.kirchenregion-laupen.ch/veranstaltung/57223
SUMMARY:Senioren-Mittagstisch
PRIORITY:5
X-MICROSOFT-CDO-IMPORTANCE:1
CLASS:PUBLIC
END:VEVENT
END:VCALENDAR
