BEGIN:VCALENDAR
PRODID:-//kirchenweb.ch gmbh//veranstaltungsausgabe v2.0//DE
VERSION:2.0
METHOD:PUBLISH
BEGIN:VEVENT
DTSTART;VALUE=DATE:20260517
DTEND;VALUE=DATE:20260518
LOCATION:\, \,
TRANSP:OPAQUE
SEQUENCE:0
UID:57384-veranstaltung@kirchenregion-laupen.ch
DTSTAMP:20260216T134412Z
DESCRIPTION:Sie sind herzlich dazu eingeladen\, den Gottesdienst in einer
  benachbarten Kirchgemeinde zu besuchen.\n\nKontakt:
  kathrin.winkelmann@kirchenregion-laupen.ch\n\nWeitere Infos:
  https://www.kirchenregion-laupen.ch/veranstaltung/57384
SUMMARY:Kein Gottesdienst in der Kirche Ferenbalm
PRIORITY:5
X-MICROSOFT-CDO-IMPORTANCE:1
CLASS:PUBLIC
END:VEVENT
END:VCALENDAR
