BEGIN:VCALENDAR
PRODID:-//kirchenweb.ch gmbh//veranstaltungsausgabe v2.0//DE
VERSION:2.0
METHOD:PUBLISH
BEGIN:VEVENT
DTSTART:20260621T080000Z
DTEND:20260621T090000Z
LOCATION:Kirche\, Kirchgasse 4\, 3206 Ferenbalm
TRANSP:OPAQUE
SEQUENCE:0
UID:57389-veranstaltung@kirchenregion-laupen.ch
DTSTAMP:20260117T103336Z
DESCRIPTION:Anschliessend an den Gottesdienst findet die vereinigte
  Kirchgemeindeversammlung bernisch und freiburgisch Ferenbalm statt.\n
 \nKontakt: Pfrn. Katrin Bardet\n\nWeitere Infos:
  https://www.kirchenregion-laupen.ch/veranstaltung/57389
SUMMARY:Flüchtlingssonntag: Gottesdienst - Mitwirkung Chor der
  Kirchgemeinde Ferenbalm
PRIORITY:5
X-MICROSOFT-CDO-IMPORTANCE:1
CLASS:PUBLIC
END:VEVENT
END:VCALENDAR
