BEGIN:VCALENDAR
PRODID:-//kirchenweb.ch gmbh//veranstaltungsausgabe v2.0//DE
VERSION:2.0
METHOD:PUBLISH
BEGIN:VEVENT
DTSTART:20260726T080000Z
DTEND:20260726T090000Z
LOCATION:Gedeckte Holzbrücke\, \, 3205 Gümmenen
TRANSP:OPAQUE
SEQUENCE:0
UID:57394-veranstaltung@kirchenregion-laupen.ch
DTSTAMP:20251228T113349Z
DESCRIPTION:Der Gottesdienst auf der gedeckten alten Saanebrücke wird von
  den Kirchgemeinden Ferenbalm\, Laupen und Mühleberg gemeinsam gefeiert
  und findet bei jeder Witterung statt.\nAnschliessend Apéro.\n
 \nParkmöglichkeiten stehen am linken Saaneufer (Bahnhofseite
  Kleingümmenen) oder am rechten Ufer in Gümmenen auf dem Vorplatz von
  Familie Zwahlen zur Verfügung.\nBitte die Parkplätze vom Restaurant
  Kreuz nicht belegen.\n\nFreundlich laden ein\nKirchgemeinden Ferenbalm\,
  Laupen und Mühleberg\n\nKontakt: Pfrn. Tania Guillaume\n\nWeitere Infos:
  https://www.kirchenregion-laupen.ch/veranstaltung/57394
SUMMARY:Regio-Gottesdienst der drei angrenzenden Kirchgemeinden
  Ferenbalm\, Laupen und Mühleberg
PRIORITY:5
X-MICROSOFT-CDO-IMPORTANCE:1
CLASS:PUBLIC
END:VEVENT
END:VCALENDAR
