BEGIN:VCALENDAR
PRODID:-//kirchenweb.ch gmbh//veranstaltungsausgabe v2.0//DE
VERSION:2.0
METHOD:PUBLISH
BEGIN:VEVENT
DTSTART:20260809T173000Z
DTEND:20260809T183000Z
LOCATION:Gammen Dorfmitte\, Chilbiplatz\, 3206 Gammen
TRANSP:OPAQUE
SEQUENCE:0
UID:57396-veranstaltung@kirchenregion-laupen.ch
DTSTAMP:20251228T114738Z
DESCRIPTION:Kontakt: Irène Löffel\, Prädikantin\, Müntschemier\n
 \nWeitere Infos: https://www.kirchenregion-laupen.ch/veranstaltung/57396
SUMMARY:Dörfli-Abendgottesdienst
PRIORITY:5
X-MICROSOFT-CDO-IMPORTANCE:1
CLASS:PUBLIC
END:VEVENT
END:VCALENDAR
