BEGIN:VCALENDAR
PRODID:-//kirchenweb.ch gmbh//veranstaltungsausgabe v2.0//DE
VERSION:2.0
METHOD:PUBLISH
BEGIN:VEVENT
DTSTART:20261011T080000Z
DTEND:20261011T090000Z
LOCATION:Riederhalle\, Galmizstrasse 37\, 3216 Ried b/Kerzers
TRANSP:OPAQUE
SEQUENCE:0
UID:57405-veranstaltung@kirchenregion-laupen.ch
DTSTAMP:20251228T120102Z
DESCRIPTION:Kontakt: Pfrn. Katrin Bardet\n\nWeitere Infos:
  https://www.kirchenregion-laupen.ch/veranstaltung/57405
SUMMARY:Gottesdienst in der Riederhalle
PRIORITY:5
X-MICROSOFT-CDO-IMPORTANCE:1
CLASS:PUBLIC
END:VEVENT
END:VCALENDAR
