BEGIN:VCALENDAR
PRODID:-//kirchenweb.ch gmbh//veranstaltungsausgabe v2.0//DE
VERSION:2.0
METHOD:PUBLISH
BEGIN:VEVENT
DTSTART:20261101T090000Z
DTEND:20261101T100000Z
LOCATION:Kirche\, Kirchgasse 4\, 3206 Ferenbalm
TRANSP:OPAQUE
SEQUENCE:0
UID:57408-veranstaltung@kirchenregion-laupen.ch
DTSTAMP:20260102T114316Z
DESCRIPTION:Zwischen 11.00 und 12.00 Uhr ist im Alten Schulhaus Ferenbalm
  für Jung und Alt wiederum das monatliche Sonntagskaffee offen. Zeit zum
  gemütlichen Zusammensein und Gespräch\, was zwischen Tür und Angel
  sonst zu kurz kommt. Sie sind herzlichen willkommen. \n\nKontakt: Pfrn.
  Katrin Bardet\n\nWeitere Infos:
  https://www.kirchenregion-laupen.ch/veranstaltung/57408
SUMMARY:Visionssonntag (Reformationssonntag): Gottesdienst mit
  Sonntagskaffee
PRIORITY:5
X-MICROSOFT-CDO-IMPORTANCE:1
CLASS:PUBLIC
END:VEVENT
END:VCALENDAR
