BEGIN:VCALENDAR
PRODID:-//kirchenweb.ch gmbh//veranstaltungsausgabe v2.0//DE
VERSION:2.0
METHOD:PUBLISH
BEGIN:VEVENT
DTSTART:20261115T090000Z
DTEND:20261115T100000Z
LOCATION:Kirche\, Kirchgasse 4\, 3206 Ferenbalm
TRANSP:OPAQUE
SEQUENCE:0
UID:57410-veranstaltung@kirchenregion-laupen.ch
DTSTAMP:20251228T130153Z
DESCRIPTION:Kontakt: Irène Löffel\, Prädikantin\, Müntschemier\n
 \nWeitere Infos: https://www.kirchenregion-laupen.ch/veranstaltung/57410
SUMMARY:Generationengottesdienst
PRIORITY:5
X-MICROSOFT-CDO-IMPORTANCE:1
CLASS:PUBLIC
END:VEVENT
END:VCALENDAR
