BEGIN:VCALENDAR
PRODID:-//kirchenweb.ch gmbh//veranstaltungsausgabe v2.0//DE
VERSION:2.0
METHOD:PUBLISH
BEGIN:VEVENT
DTSTART:20261129T090000Z
DTEND:20261129T100000Z
LOCATION:Kirche\, Kirchgasse 4\, 3206 Ferenbalm
TRANSP:OPAQUE
SEQUENCE:0
UID:57412-veranstaltung@kirchenregion-laupen.ch
DTSTAMP:20260102T114540Z
DESCRIPTION:Anschliessend an den Gottesdienst findet die vereinigte
  Kirchgemeindeversammlung bernisch und freiburgisch Ferenbalm statt.\n
 \nKontakt: Pfrn. Katrin Bardet\n\nWeitere Infos:
  https://www.kirchenregion-laupen.ch/veranstaltung/57412
SUMMARY:1. Advent: Gottesdienst
PRIORITY:5
X-MICROSOFT-CDO-IMPORTANCE:1
CLASS:PUBLIC
END:VEVENT
END:VCALENDAR
