BEGIN:VCALENDAR
PRODID:-//kirchenweb.ch gmbh//veranstaltungsausgabe v2.0//DE
VERSION:2.0
METHOD:PUBLISH
BEGIN:VEVENT
DTSTART;VALUE=DATE:20261220
DTEND;VALUE=DATE:20261221
LOCATION:\, \,
TRANSP:OPAQUE
SEQUENCE:0
UID:57415-veranstaltung@kirchenregion-laupen.ch
DTSTAMP:20251228T131902Z
DESCRIPTION:Sie sind herzlich dazu eingeladen\, den Gottesdienst in einer
  benachbarten Kirchgemeinde zu besuchen.\n\nKontakt:
  kathrin.winkelmann@kirchenregion-laupen.ch\n\nWeitere Infos:
  https://www.kirchenregion-laupen.ch/veranstaltung/57415
SUMMARY:Kein Gottesdienst in der Kirche Ferenbalm (eventuell)
PRIORITY:5
X-MICROSOFT-CDO-IMPORTANCE:1
CLASS:PUBLIC
END:VEVENT
END:VCALENDAR
