BEGIN:VCALENDAR
PRODID:-//kirchenweb.ch gmbh//veranstaltungsausgabe v2.0//DE
VERSION:2.0
METHOD:PUBLISH
BEGIN:VEVENT
DTSTART:20261224T140000Z
DTEND:20261224T150000Z
LOCATION:Kirche\, Kirchgasse 4\, 3206 Ferenbalm
TRANSP:OPAQUE
SEQUENCE:0
UID:57416-veranstaltung@kirchenregion-laupen.ch
DTSTAMP:20251228T132417Z
DESCRIPTION:Kontakt: Pfrn. Katrin Bardet\n\nWeitere Infos:
  https://www.kirchenregion-laupen.ch/veranstaltung/57416
SUMMARY:Generationengottesdienst mit Weihnachtsmusical
PRIORITY:5
X-MICROSOFT-CDO-IMPORTANCE:1
CLASS:PUBLIC
END:VEVENT
END:VCALENDAR
