BEGIN:VCALENDAR
PRODID:-//kirchenweb.ch gmbh//veranstaltungsausgabe v2.0//DE
VERSION:2.0
METHOD:PUBLISH
BEGIN:VEVENT
DTSTART:20261224T210000Z
DTEND:20261224T220000Z
LOCATION:Kirche\, Kirchgasse 4\, 3206 Ferenbalm
TRANSP:OPAQUE
SEQUENCE:0
UID:57423-veranstaltung@kirchenregion-laupen.ch
DTSTAMP:20251228T132617Z
DESCRIPTION:Kontakt: Pfrn. Katrin Bardet\n\nWeitere Infos:
  https://www.kirchenregion-laupen.ch/veranstaltung/57423
SUMMARY:Heiliger Abend: Christnachtfeier
PRIORITY:5
X-MICROSOFT-CDO-IMPORTANCE:1
CLASS:PUBLIC
END:VEVENT
END:VCALENDAR
