BEGIN:VCALENDAR
PRODID:-//kirchenweb.ch gmbh//veranstaltungsausgabe v2.0//DE
VERSION:2.0
METHOD:PUBLISH
BEGIN:VEVENT
DTSTART:20260827T180000Z
DTEND:20260827T190000Z
LOCATION:Kirche Frauenkappelen\, Murtenstrasse 68\, 3202 Frauenkappelen
TRANSP:OPAQUE
SEQUENCE:0
UID:57685-veranstaltung@kirchenregion-laupen.ch
DTSTAMP:20260114T095226Z
DESCRIPTION:Kontakt: Jörg Bütikofer\n\nWeitere Infos:
  https://www.kirchenregion-laupen.ch/veranstaltung/57685
SUMMARY:Offenes Singen
PRIORITY:5
X-MICROSOFT-CDO-IMPORTANCE:1
CLASS:PUBLIC
END:VEVENT
END:VCALENDAR
