BEGIN:VCALENDAR
PRODID:-//kirchenweb.ch gmbh//veranstaltungsausgabe v2.0//DE
VERSION:2.0
METHOD:PUBLISH
BEGIN:VEVENT
DTSTART:20270529T090000Z
DTEND:20270529T140000Z
LOCATION:Evang.-ref. Kirche\, Läubliplatz 16\, 3177 Laupen
TRANSP:OPAQUE
SEQUENCE:0
UID:58218-veranstaltung@kirchenregion-laupen.ch
DTSTAMP:20260224T130542Z
DESCRIPTION:Kontakt: jan.reintjes@kirchenregion-laupen.ch\n\nWeitere
  Infos: https://www.kirchenregion-laupen.ch/veranstaltung/58218
SUMMARY:Hochzeit Larissa Wiederkehr und Christian Holzer
PRIORITY:5
X-MICROSOFT-CDO-IMPORTANCE:1
CLASS:PUBLIC
END:VEVENT
END:VCALENDAR
