BEGIN:VCALENDAR
PRODID:-//kirchenweb.ch gmbh//veranstaltungsausgabe v2.0//DE
VERSION:2.0
METHOD:PUBLISH
BEGIN:VEVENT
DTSTART:20260514T080000Z
DTEND:20260514T090000Z
LOCATION:Evang.-ref. Kirche\, Läubliplatz 16\, 3177 Laupen
TRANSP:OPAQUE
SEQUENCE:0
UID:58220-veranstaltung@kirchenregion-laupen.ch
DTSTAMP:20260224T135403Z
DESCRIPTION:An allen Gottesdiensten ist für Personen aus Laupen und
  Kriechenwil ein Fahrdienst organisiert. Anmeldung bis Samstagmittag bei
  H. Stoll unter Telefon 078 905 02 09.\n\n\nKontakt: Pfr. Jan Ludwig
  Reintjes (Laupen)\n\nWeitere Infos:
  https://www.kirchenregion-laupen.ch/veranstaltung/58220
SUMMARY:Konfirmationsgottesdienst mit Abendmahl
PRIORITY:5
X-MICROSOFT-CDO-IMPORTANCE:1
CLASS:PUBLIC
END:VEVENT
END:VCALENDAR
