BEGIN:VCALENDAR
PRODID:-//kirchenweb.ch gmbh//veranstaltungsausgabe v2.0//DE
VERSION:2.0
METHOD:PUBLISH
BEGIN:VEVENT
DTSTART:20260513T060000Z
DTEND:20260513T100000Z
LOCATION:Ökumenisches Zentrum\, Noflenweg 6\, 3177 Laupen
TRANSP:OPAQUE
SEQUENCE:0
UID:58227-veranstaltung@kirchenregion-laupen.ch
DTSTAMP:20260225T112701Z
DESCRIPTION:Kontakt: Ursi Hess\n\nWeitere Infos:
  https://www.kirchenregion-laupen.ch/veranstaltung/58227
SUMMARY:Besucherkreis
PRIORITY:5
X-MICROSOFT-CDO-IMPORTANCE:1
CLASS:PUBLIC
END:VEVENT
END:VCALENDAR
