BEGIN:VCALENDAR
PRODID:-//kirchenweb.ch gmbh//veranstaltungsausgabe v2.0//DE
VERSION:2.0
METHOD:PUBLISH
BEGIN:VEVENT
DTSTART:20260609T080000Z
DTEND:20260609T150000Z
LOCATION:Auswärts\, \,
TRANSP:OPAQUE
SEQUENCE:0
UID:58285-veranstaltung@kirchenregion-laupen.ch
DTSTAMP:20260302T085937Z
DESCRIPTION:Kontakt: Beatrice Winkelmann\, Sekretariat\n\nWeitere Infos:
  https://www.kirchenregion-laupen.ch/veranstaltung/58285
SUMMARY:Münchenwiler bewegt - Tagesausflug
PRIORITY:5
X-MICROSOFT-CDO-IMPORTANCE:1
CLASS:PUBLIC
END:VEVENT
END:VCALENDAR
