BEGIN:VCALENDAR
PRODID:-//kirchenweb.ch gmbh//veranstaltungsausgabe v2.0//DE
VERSION:2.0
METHOD:PUBLISH
BEGIN:VEVENT
DTSTART:20260420T170000Z
DTEND:20260420T183000Z
LOCATION:Pfarrstöckli\, Sitzungszimmer EG\, Ferenbalmstrasse 31\, 3206
  Ferenbalm
TRANSP:OPAQUE
SEQUENCE:0
UID:58310-veranstaltung@kirchenregion-laupen.ch
DTSTAMP:20260411T130206Z
DESCRIPTION:Kontakt: Kathrin Winkelmann\, Sekretariat\n\nWeitere Infos:
  https://www.kirchenregion-laupen.ch/veranstaltung/58310
SUMMARY:Projekt Kilchhöri; Kerngruppe
PRIORITY:5
X-MICROSOFT-CDO-IMPORTANCE:1
CLASS:PUBLIC
END:VEVENT
END:VCALENDAR
