BEGIN:VCALENDAR
PRODID:-//kirchenweb.ch gmbh//veranstaltungsausgabe v2.0//DE
VERSION:2.0
METHOD:PUBLISH
BEGIN:VEVENT
DTSTART:20260427T170000Z
DTEND:20260427T190000Z
LOCATION:Pfarrstöckli\, Sitzungszimmer EG\, Ferenbalmstrasse 31\, 3206
  Ferenbalm
TRANSP:OPAQUE
SEQUENCE:0
UID:58313-veranstaltung@kirchenregion-laupen.ch
DTSTAMP:20260320T120642Z
DESCRIPTION:Kontakt: Kathrin Winkelmann\, Sekretariat\n\nWeitere Infos:
  https://www.kirchenregion-laupen.ch/veranstaltung/58313
SUMMARY:Ständige Kommission Jugendarbeit/KUW
PRIORITY:5
X-MICROSOFT-CDO-IMPORTANCE:1
CLASS:PUBLIC
END:VEVENT
END:VCALENDAR
