BEGIN:VCALENDAR
PRODID:-//kirchenweb.ch gmbh//veranstaltungsausgabe v2.0//DE
VERSION:2.0
METHOD:PUBLISH
BEGIN:VEVENT
DTSTART:20260505T180000Z
DTEND:20260505T193000Z
LOCATION:Sitzungszimmer Pfarrhaus\, Murtenstrasse 72\, 3202 Frauenkappelen
TRANSP:OPAQUE
SEQUENCE:0
UID:58373-veranstaltung@kirchenregion-laupen.ch
DTSTAMP:20260319T105714Z
DESCRIPTION:Kontakt: Pfrn. Claudia Miller\n\nWeitere Infos:
  https://www.kirchenregion-laupen.ch/veranstaltung/58373
SUMMARY:43. Theologisches Nachtgespräch
PRIORITY:5
X-MICROSOFT-CDO-IMPORTANCE:1
CLASS:PUBLIC
END:VEVENT
END:VCALENDAR
