BEGIN:VCALENDAR
PRODID:-//kirchenweb.ch gmbh//veranstaltungsausgabe v2.0//DE
VERSION:2.0
METHOD:PUBLISH
BEGIN:VEVENT
DTSTART:20260606T113000Z
DTEND:20260606T150000Z
LOCATION:Ökumenisches Zentrum\, Noflenweg 6\, 3177 Laupen
TRANSP:OPAQUE
SEQUENCE:0
UID:58382-veranstaltung@kirchenregion-laupen.ch
DTSTAMP:20260325T070350Z
DESCRIPTION:Kontakt: Pfr. Jan Ludwig Reintjes\, Laupen\n\nWeitere Infos:
  https://www.kirchenregion-laupen.ch/veranstaltung/58382
SUMMARY:Kinder-Pfingstfest
PRIORITY:5
X-MICROSOFT-CDO-IMPORTANCE:1
CLASS:PUBLIC
END:VEVENT
END:VCALENDAR
