BEGIN:VCALENDAR
PRODID:-//kirchenweb.ch gmbh//veranstaltungsausgabe v2.0//DE
VERSION:2.0
METHOD:PUBLISH
BEGIN:VEVENT
DTSTART:20260422T150000Z
DTEND:20260422T190000Z
LOCATION:Ökumenisches Zentrum\, Noflenweg 6\, 3177 Laupen
TRANSP:OPAQUE
SEQUENCE:0
UID:58404-veranstaltung@kirchenregion-laupen.ch
DTSTAMP:20260325T104257Z
DESCRIPTION:Kontakt: Herr Schönberger\n031 990 70 03\n079 514 38 23
  (Mobil)\n\nWeitere Infos:
  https://www.kirchenregion-laupen.ch/veranstaltung/58404
SUMMARY:Stowe Jungfrauweg 15
PRIORITY:5
X-MICROSOFT-CDO-IMPORTANCE:1
CLASS:PUBLIC
END:VEVENT
END:VCALENDAR
