BEGIN:VCALENDAR
PRODID:-//kirchenweb.ch gmbh//veranstaltungsausgabe v2.0//DE
VERSION:2.0
METHOD:PUBLISH
BEGIN:VEVENT
DTSTART:20260511T070000Z
DTEND:20260511T090000Z
LOCATION:Ökumenisches Zentrum\, Noflenweg 6\, 3177 Laupen
TRANSP:OPAQUE
SEQUENCE:0
UID:58444-veranstaltung@kirchenregion-laupen.ch
DTSTAMP:20260331T074553Z
DESCRIPTION:Kontakt: Nicola Froescher 078 347 33 33\n\nWeitere Infos:
  https://www.kirchenregion-laupen.ch/veranstaltung/58444
SUMMARY:Musikgarten
PRIORITY:5
X-MICROSOFT-CDO-IMPORTANCE:1
CLASS:PUBLIC
END:VEVENT
END:VCALENDAR
