BEGIN:VCALENDAR
PRODID:-//kirchenweb.ch gmbh//veranstaltungsausgabe v2.0//DE
VERSION:2.0
METHOD:PUBLISH
BEGIN:VEVENT
DTSTART:20260422T080000Z
DTEND:20260422T130000Z
LOCATION:Ökumenisches Zentrum\, Noflenweg 6\, 3177 Laupen
TRANSP:OPAQUE
SEQUENCE:0
UID:58482-veranstaltung@kirchenregion-laupen.ch
DTSTAMP:20260402T133955Z
DESCRIPTION:Kontakt: Herr Birchler\n\nWeitere Infos:
  https://www.kirchenregion-laupen.ch/veranstaltung/58482
SUMMARY:Roland Birchler
PRIORITY:5
X-MICROSOFT-CDO-IMPORTANCE:1
CLASS:PUBLIC
END:VEVENT
END:VCALENDAR
