BEGIN:VCALENDAR
PRODID:-//kirchenweb.ch gmbh//veranstaltungsausgabe v2.0//DE
VERSION:2.0
METHOD:PUBLISH
BEGIN:VEVENT
DTSTART:20260430T070000Z
DTEND:20260430T100000Z
LOCATION:Ökumenisches Zentrum\, Noflenweg 6\, 3177 Laupen
TRANSP:OPAQUE
SEQUENCE:0
UID:58517-veranstaltung@kirchenregion-laupen.ch
DTSTAMP:20260408T184628Z
DESCRIPTION:Kontakt: Claudia Ghilmetti\n\nWeitere Infos:
  https://www.kirchenregion-laupen.ch/veranstaltung/58517
SUMMARY:Muki
PRIORITY:5
X-MICROSOFT-CDO-IMPORTANCE:1
CLASS:PUBLIC
END:VEVENT
END:VCALENDAR
